{
  "type": "Feature",
  "stac_version": "1.0.0",
  "stac_extensions": [
    "https://stac-extensions.github.io/grid/v1.1.0/schema.json",
    "https://stac-extensions.github.io/mgrs/v1.0.0/schema.json",
    "https://stac-extensions.github.io/eo/v1.1.0/schema.json",
    "https://stac-extensions.github.io/raster/v1.1.0/schema.json",
    "https://stac-extensions.github.io/sentinel-2/v1.0.0/schema.json",
    "https://stac-extensions.github.io/projection/v1.1.0/schema.json",
    "https://stac-extensions.github.io/processing/v1.1.0/schema.json",
    "https://stac-extensions.github.io/view/v1.0.0/schema.json"
  ],
  "id": "S2A_45RUM_20261003_1_L2A",
  "geometry": {
    "type": "Polygon",
    "coordinates": [
      [
        [
          84.9485784916518,
          28.912645022883027
        ],
        [
          84.96757121478419,
          27.92306042934289
        ],
        [
          85.83705919890008,
          27.93323935667659
        ],
        [
          86.07569853084647,
          28.800887262028883
        ],
        [
          86.07459904172168,
          28.925093490386516
        ],
        [
          84.9485784916518,
          28.912645022883027
        ]
      ]
    ]
  },
  "bbox": [
    84.948578,
    27.92306,
    86.075699,
    28.925093
  ],
  "properties": {
    "created": "2026-10-03T11:42:49.593Z",
    "platform": "sentinel-2a",
    "constellation": "sentinel-2",
    "instruments": [
      "msi"
    ],
    "eo:cloud_cover": 19.201642,
    "proj:epsg": 32645,
    "proj:centroid": {
      "lat": 28.44639,
      "lon": 85.46743
    },
    "mgrs:utm_zone": 45,
    "mgrs:latitude_band": "R",
    "mgrs:grid_square": "UM",
    "grid:code": "MGRS-45RUM",
    "view:azimuth": 283.87762449654554,
    "view:incidence_angle": 7.9082704986249635,
    "view:sun_azimuth": 155.185663983959,
    "view:sun_elevation": 54.9186253733622,
    "s2:tile_id": "S2A_OPER_MSI_L2A_TL_2APS_20261003T100809_A058918_T45RUM_N05.13",
    "s2:degraded_msi_data_percentage": 0.0658,
    "s2:nodata_pixel_percentage": 9.69734,
    "s2:saturated_defective_pixel_percentage": 0,
    "s2:cloud_shadow_percentage": 1.077825,
    "s2:vegetation_percentage": 12.048945,
    "s2:not_vegetated_percentage": 21.318258,
    "s2:water_percentage": 2.11073,
    "s2:unclassified_percentage": 0.756842,
    "s2:medium_proba_clouds_percentage": 6.115464,
    "s2:high_proba_clouds_percentage": 13.086152,
    "s2:thin_cirrus_percentage": 2.6e-05,
    "s2:snow_ice_percentage": 40.234265,
    "s2:product_type": "S2MSI2A",
    "s2:processing_baseline": "05.13",
    "s2:product_uri": "S2A_MSIL2A_20261003T050231_N0513_R119_T45RUM_20261003T100809.SAFE",
    "s2:generation_time": "2026-10-03T10:08:09.000000Z",
    "s2:datatake_id": "GS2A_20261003T050231_058918_N05.13",
    "s2:datatake_type": "INS-NOBS",
    "s2:datastrip_id": "S2A_OPER_MSI_L2A_DS_2APS_20261003T100809_S20261003T050648_N05.13",
    "s2:reflectance_conversion_factor": 0.99703065507003,
    "datetime": "2026-10-03T05:11:02.095000Z",
    "s2:sequence": "1",
    "earthsearch:s3_path": "s3://sentinel-cogs/sentinel-s2-l2a-cogs/45/R/UM/2026/10/S2A_45RUM_20261003_1_L2A",
    "earthsearch:payload_id": "roda-sentinel2/workflow-sentinel2-to-stac/4488ec60b47a9e3a22c5be55f08ddd93",
    "earthsearch:boa_offset_applied": true,
    "processing:software": {
      "sentinel2-to-stac": "2026.08.16"
    },
    "updated": "2026-10-03T11:42:49.593Z"
  },
  "links": [
    {
      "rel": "self",
      "type": "application/geo+json",
      "href": "https://earth-search.aws.element84.com/v1/collections/sentinel-2-l2a/items/S2A_45RUM_20261003_1_L2A"
    },
    {
      "rel": "canonical",
      "href": "s3://sentinel-cogs/sentinel-s2-l2a-cogs/45/R/UM/2026/10/S2A_45RUM_20261003_1_L2A/S2A_45RUM_20261003_1_L2A.json",
      "type": "application/json"
    },
    {
      "rel": "license",
      "href": "https://sentinel.esa.int/documents/247904/690755/Sentinel_Data_Legal_Notice"
    },
    {
      "rel": "derived_from",
      "href": "https://earth-search.aws.element84.com/v1/collections/sentinel-2-l1c/items/S2A_45RUM_20261003_1_L1C",
      "type": "application/geo+json"
    },
    {
      "rel": "parent",
      "type": "application/json",
      "href": "https://earth-search.aws.element84.com/v1/collections/sentinel-2-l2a"
    },
    {
      "rel": "collection",
      "type": "application/json",
      "href": "https://earth-search.aws.element84.com/v1/collections/sentinel-2-l2a"
    },
    {
      "rel": "root",
      "type": "application/json",
      "href": "https://earth-search.aws.element84.com/v1"
    },
    {
      "rel": "thumbnail",
      "href": "https://earth-search.aws.element84.com/v1/collections/sentinel-2-l2a/items/S2A_45RUM_20261003_1_L2A/thumbnail"
    }
  ],
  "assets": {
    "aot": {
      "href": "https://sentinel-cogs.s3.us-west-2.amazonaws.com/sentinel-s2-l2a-cogs/45/R/UM/2026/10/S2A_45RUM_20261003_1_L2A/AOT.tif",
      "type": "image/tiff; application=geotiff; profile=cloud-optimized",
      "title": "Aerosol optical thickness (AOT)",
      "gsd": 20,
      "proj:shape": [
        5490,
        5490
      ],
      "proj:transform": [
        20,
        0,
        300000,
        0,
        -20,
        3200040
      ],
      "raster:bands": [
        {
          "nodata": 0,
          "data_type": "uint16",
          "spatial_resolution": 20,
          "scale": 0.001,
          "offset": 0
        }
      ],
      "roles": [
        "data"
      ]
    },
    "blue": {
      "href": "https://sentinel-cogs.s3.us-west-2.amazonaws.com/sentinel-s2-l2a-cogs/45/R/UM/2026/10/S2A_45RUM_20261003_1_L2A/B02.tif",
      "type": "image/tiff; application=geotiff; profile=cloud-optimized",
      "title": "Blue - 10m",
      "eo:bands": [
        {
          "name": "B02",
          "common_name": "blue",
          "center_wavelength": 0.49,
          "full_width_half_max": 0.098
        }
      ],
      "gsd": 10,
      "proj:shape": [
        10980,
        10980
      ],
      "proj:transform": [
        10,
        0,
        300000,
        0,
        -10,
        3200040
      ],
      "raster:bands": [
        {
          "nodata": 0,
          "data_type": "uint16",
          "spatial_resolution": 10,
          "scale": 0.0001,
          "offset": -0.1
        }
      ],
      "roles": [
        "data",
        "reflectance"
      ]
    },
    "cloud": {
      "href": "s3://sentinel-s2-l2a/tiles/45/R/UM/2026/10/3/1/qi/CLD_20m.jp2",
      "type": "image/jp2",
      "title": "Cloud Probabilities",
      "gsd": 20,
      "proj:shape": [
        5490,
        5490
      ],
      "proj:transform": [
        20,
        0,
        300000,
        0,
        -20,
        3200040
      ],
      "raster:bands": [
        {
          "nodata": 0,
          "data_type": "uint8",
          "spatial_resolution": 20
        }
      ],
      "roles": [
        "data",
        "cloud"
      ]
    },
    "coastal": {
      "href": "https://sentinel-cogs.s3.us-west-2.amazonaws.com/sentinel-s2-l2a-cogs/45/R/UM/2026/10/S2A_45RUM_20261003_1_L2A/B01.tif",
      "type": "image/tiff; application=geotiff; profile=cloud-optimized",
      "title": "Coastal - 60m",
      "eo:bands": [
        {
          "name": "B01",
          "common_name": "coastal",
          "center_wavelength": 0.443,
          "full_width_half_max": 0.027
        }
      ],
      "gsd": 60,
      "proj:shape": [
        1830,
        1830
      ],
      "proj:transform": [
        60,
        0,
        300000,
        0,
        -60,
        3200040
      ],
      "raster:bands": [
        {
          "nodata": 0,
          "data_type": "uint16",
          "spatial_resolution": 60,
          "scale": 0.0001,
          "offset": -0.1
        }
      ],
      "roles": [
        "data",
        "reflectance"
      ]
    },
    "granule_metadata": {
      "href": "https://sentinel-cogs.s3.us-west-2.amazonaws.com/sentinel-s2-l2a-cogs/45/R/UM/2026/10/S2A_45RUM_20261003_1_L2A/granule_metadata.xml",
      "type": "application/xml",
      "roles": [
        "metadata"
      ]
    },
    "green": {
      "href": "https://sentinel-cogs.s3.us-west-2.amazonaws.com/sentinel-s2-l2a-cogs/45/R/UM/2026/10/S2A_45RUM_20261003_1_L2A/B03.tif",
      "type": "image/tiff; application=geotiff; profile=cloud-optimized",
      "title": "Green - 10m",
      "eo:bands": [
        {
          "name": "B03",
          "common_name": "green",
          "center_wavelength": 0.56,
          "full_width_half_max": 0.045
        }
      ],
      "gsd": 10,
      "proj:shape": [
        10980,
        10980
      ],
      "proj:transform": [
        10,
        0,
        300000,
        0,
        -10,
        3200040
      ],
      "raster:bands": [
        {
          "nodata": 0,
          "data_type": "uint16",
          "spatial_resolution": 10,
          "scale": 0.0001,
          "offset": -0.1
        }
      ],
      "roles": [
        "data",
        "reflectance"
      ]
    },
    "nir": {
      "href": "https://sentinel-cogs.s3.us-west-2.amazonaws.com/sentinel-s2-l2a-cogs/45/R/UM/2026/10/S2A_45RUM_20261003_1_L2A/B08.tif",
      "type": "image/tiff; application=geotiff; profile=cloud-optimized",
      "title": "NIR 1 - 10m",
      "eo:bands": [
        {
          "name": "B08",
          "common_name": "nir",
          "center_wavelength": 0.842,
          "full_width_half_max": 0.145
        }
      ],
      "gsd": 10,
      "proj:shape": [
        10980,
        10980
      ],
      "proj:transform": [
        10,
        0,
        300000,
        0,
        -10,
        3200040
      ],
      "raster:bands": [
        {
          "nodata": 0,
          "data_type": "uint16",
          "spatial_resolution": 10,
          "scale": 0.0001,
          "offset": -0.1
        }
      ],
      "roles": [
        "data",
        "reflectance"
      ]
    },
    "nir08": {
      "href": "https://sentinel-cogs.s3.us-west-2.amazonaws.com/sentinel-s2-l2a-cogs/45/R/UM/2026/10/S2A_45RUM_20261003_1_L2A/B8A.tif",
      "type": "image/tiff; application=geotiff; profile=cloud-optimized",
      "title": "NIR 2 - 20m",
      "eo:bands": [
        {
          "name": "B8A",
          "common_name": "nir08",
          "center_wavelength": 0.865,
          "full_width_half_max": 0.033
        }
      ],
      "gsd": 20,
      "proj:shape": [
        5490,
        5490
      ],
      "proj:transform": [
        20,
        0,
        300000,
        0,
        -20,
        3200040
      ],
      "raster:bands": [
        {
          "nodata": 0,
          "data_type": "uint16",
          "spatial_resolution": 20,
          "scale": 0.0001,
          "offset": -0.1
        }
      ],
      "roles": [
        "data",
        "reflectance"
      ]
    },
    "nir09": {
      "href": "https://sentinel-cogs.s3.us-west-2.amazonaws.com/sentinel-s2-l2a-cogs/45/R/UM/2026/10/S2A_45RUM_20261003_1_L2A/B09.tif",
      "type": "image/tiff; application=geotiff; profile=cloud-optimized",
      "title": "NIR 3 - 60m",
      "eo:bands": [
        {
          "name": "B09",
          "common_name": "nir09",
          "center_wavelength": 0.945,
          "full_width_half_max": 0.026
        }
      ],
      "gsd": 60,
      "proj:shape": [
        1830,
        1830
      ],
      "proj:transform": [
        60,
        0,
        300000,
        0,
        -60,
        3200040
      ],
      "raster:bands": [
        {
          "nodata": 0,
          "data_type": "uint16",
          "spatial_resolution": 60,
          "scale": 0.0001,
          "offset": -0.1
        }
      ],
      "roles": [
        "data",
        "reflectance"
      ]
    },
    "product_metadata": {
      "href": "s3://sentinel-s2-l2a/tiles/45/R/UM/2026/10/3/1/product_metadata.xml",
      "type": "application/xml",
      "roles": [
        "metadata"
      ]
    },
    "red": {
      "href": "https://sentinel-cogs.s3.us-west-2.amazonaws.com/sentinel-s2-l2a-cogs/45/R/UM/2026/10/S2A_45RUM_20261003_1_L2A/B04.tif",
      "type": "image/tiff; application=geotiff; profile=cloud-optimized",
      "title": "Red - 10m",
      "eo:bands": [
        {
          "name": "B04",
          "common_name": "red",
          "center_wavelength": 0.665,
          "full_width_half_max": 0.038
        }
      ],
      "gsd": 10,
      "proj:shape": [
        10980,
        10980
      ],
      "proj:transform": [
        10,
        0,
        300000,
        0,
        -10,
        3200040
      ],
      "raster:bands": [
        {
          "nodata": 0,
          "data_type": "uint16",
          "spatial_resolution": 10,
          "scale": 0.0001,
          "offset": -0.1
        }
      ],
      "roles": [
        "data",
        "reflectance"
      ]
    },
    "rededge1": {
      "href": "https://sentinel-cogs.s3.us-west-2.amazonaws.com/sentinel-s2-l2a-cogs/45/R/UM/2026/10/S2A_45RUM_20261003_1_L2A/B05.tif",
      "type": "image/tiff; application=geotiff; profile=cloud-optimized",
      "title": "Red Edge 1 - 20m",
      "eo:bands": [
        {
          "name": "B05",
          "common_name": "rededge",
          "center_wavelength": 0.704,
          "full_width_half_max": 0.019
        }
      ],
      "gsd": 20,
      "proj:shape": [
        5490,
        5490
      ],
      "proj:transform": [
        20,
        0,
        300000,
        0,
        -20,
        3200040
      ],
      "raster:bands": [
        {
          "nodata": 0,
          "data_type": "uint16",
          "spatial_resolution": 20,
          "scale": 0.0001,
          "offset": -0.1
        }
      ],
      "roles": [
        "data",
        "reflectance"
      ]
    },
    "rededge2": {
      "href": "https://sentinel-cogs.s3.us-west-2.amazonaws.com/sentinel-s2-l2a-cogs/45/R/UM/2026/10/S2A_45RUM_20261003_1_L2A/B06.tif",
      "type": "image/tiff; application=geotiff; profile=cloud-optimized",
      "title": "Red Edge 2 - 20m",
      "eo:bands": [
        {
          "name": "B06",
          "common_name": "rededge",
          "center_wavelength": 0.74,
          "full_width_half_max": 0.018
        }
      ],
      "gsd": 20,
      "proj:shape": [
        5490,
        5490
      ],
      "proj:transform": [
        20,
        0,
        300000,
        0,
        -20,
        3200040
      ],
      "raster:bands": [
        {
          "nodata": 0,
          "data_type": "uint16",
          "spatial_resolution": 20,
          "scale": 0.0001,
          "offset": -0.1
        }
      ],
      "roles": [
        "data",
        "reflectance"
      ]
    },
    "rededge3": {
      "href": "https://sentinel-cogs.s3.us-west-2.amazonaws.com/sentinel-s2-l2a-cogs/45/R/UM/2026/10/S2A_45RUM_20261003_1_L2A/B07.tif",
      "type": "image/tiff; application=geotiff; profile=cloud-optimized",
      "title": "Red Edge 3 - 20m",
      "eo:bands": [
        {
          "name": "B07",
          "common_name": "rededge",
          "center_wavelength": 0.783,
          "full_width_half_max": 0.028
        }
      ],
      "gsd": 20,
      "proj:shape": [
        5490,
        5490
      ],
      "proj:transform": [
        20,
        0,
        300000,
        0,
        -20,
        3200040
      ],
      "raster:bands": [
        {
          "nodata": 0,
          "data_type": "uint16",
          "spatial_resolution": 20,
          "scale": 0.0001,
          "offset": -0.1
        }
      ],
      "roles": [
        "data",
        "reflectance"
      ]
    },
    "scl": {
      "href": "https://sentinel-cogs.s3.us-west-2.amazonaws.com/sentinel-s2-l2a-cogs/45/R/UM/2026/10/S2A_45RUM_20261003_1_L2A/SCL.tif",
      "type": "image/tiff; application=geotiff; profile=cloud-optimized",
      "title": "Scene classification map (SCL)",
      "gsd": 20,
      "proj:shape": [
        5490,
        5490
      ],
      "proj:transform": [
        20,
        0,
        300000,
        0,
        -20,
        3200040
      ],
      "raster:bands": [
        {
          "nodata": 0,
          "data_type": "uint8",
          "spatial_resolution": 20
        }
      ],
      "roles": [
        "data"
      ]
    },
    "snow": {
      "href": "s3://sentinel-s2-l2a/tiles/45/R/UM/2026/10/3/1/qi/SNW_20m.jp2",
      "type": "image/jp2",
      "title": "Snow Probabilities",
      "proj:shape": [
        5490,
        5490
      ],
      "proj:transform": [
        20,
        0,
        300000,
        0,
        -20,
        3200040
      ],
      "raster:bands": [
        {
          "nodata": 0,
          "data_type": "uint8",
          "spatial_resolution": 20
        }
      ],
      "roles": [
        "data",
        "snow-ice"
      ]
    },
    "swir16": {
      "href": "https://sentinel-cogs.s3.us-west-2.amazonaws.com/sentinel-s2-l2a-cogs/45/R/UM/2026/10/S2A_45RUM_20261003_1_L2A/B11.tif",
      "type": "image/tiff; application=geotiff; profile=cloud-optimized",
      "title": "SWIR 1.6μm - 20m",
      "eo:bands": [
        {
          "name": "B11",
          "common_name": "swir16",
          "center_wavelength": 1.61,
          "full_width_half_max": 0.143
        }
      ],
      "gsd": 20,
      "proj:shape": [
        5490,
        5490
      ],
      "proj:transform": [
        20,
        0,
        300000,
        0,
        -20,
        3200040
      ],
      "raster:bands": [
        {
          "nodata": 0,
          "data_type": "uint16",
          "spatial_resolution": 20,
          "scale": 0.0001,
          "offset": -0.1
        }
      ],
      "roles": [
        "data",
        "reflectance"
      ]
    },
    "swir22": {
      "href": "https://sentinel-cogs.s3.us-west-2.amazonaws.com/sentinel-s2-l2a-cogs/45/R/UM/2026/10/S2A_45RUM_20261003_1_L2A/B12.tif",
      "type": "image/tiff; application=geotiff; profile=cloud-optimized",
      "title": "SWIR 2.2μm - 20m",
      "eo:bands": [
        {
          "name": "B12",
          "common_name": "swir22",
          "center_wavelength": 2.19,
          "full_width_half_max": 0.242
        }
      ],
      "gsd": 20,
      "proj:shape": [
        5490,
        5490
      ],
      "proj:transform": [
        20,
        0,
        300000,
        0,
        -20,
        3200040
      ],
      "raster:bands": [
        {
          "nodata": 0,
          "data_type": "uint16",
          "spatial_resolution": 20,
          "scale": 0.0001,
          "offset": -0.1
        }
      ],
      "roles": [
        "data",
        "reflectance"
      ]
    },
    "tileinfo_metadata": {
      "href": "https://sentinel-cogs.s3.us-west-2.amazonaws.com/sentinel-s2-l2a-cogs/45/R/UM/2026/10/S2A_45RUM_20261003_1_L2A/tileinfo_metadata.json",
      "type": "application/json",
      "roles": [
        "metadata"
      ]
    },
    "visual": {
      "href": "https://sentinel-cogs.s3.us-west-2.amazonaws.com/sentinel-s2-l2a-cogs/45/R/UM/2026/10/S2A_45RUM_20261003_1_L2A/TCI.tif",
      "type": "image/tiff; application=geotiff; profile=cloud-optimized",
      "title": "True color image",
      "eo:bands": [
        {
          "name": "B04",
          "common_name": "red",
          "center_wavelength": 0.665,
          "full_width_half_max": 0.038
        },
        {
          "name": "B03",
          "common_name": "green",
          "center_wavelength": 0.56,
          "full_width_half_max": 0.045
        },
        {
          "name": "B02",
          "common_name": "blue",
          "center_wavelength": 0.49,
          "full_width_half_max": 0.098
        }
      ],
      "raster:bands": [
        {
          "nodata": 0,
          "data_type": "uint8",
          "spatial_resolution": 10
        },
        {
          "nodata": 0,
          "data_type": "uint8",
          "spatial_resolution": 10
        },
        {
          "nodata": 0,
          "data_type": "uint8",
          "spatial_resolution": 10
        }
      ],
      "gsd": 10,
      "proj:shape": [
        10980,
        10980
      ],
      "proj:transform": [
        10,
        0,
        300000,
        0,
        -10,
        3200040
      ],
      "roles": [
        "visual"
      ]
    },
    "wvp": {
      "href": "https://sentinel-cogs.s3.us-west-2.amazonaws.com/sentinel-s2-l2a-cogs/45/R/UM/2026/10/S2A_45RUM_20261003_1_L2A/WVP.tif",
      "type": "image/tiff; application=geotiff; profile=cloud-optimized",
      "title": "Water Vapour (WVP)",
      "gsd": 20,
      "proj:shape": [
        5490,
        5490
      ],
      "proj:transform": [
        20,
        0,
        300000,
        0,
        -20,
        3200040
      ],
      "raster:bands": [
        {
          "nodata": 0,
          "data_type": "uint16",
          "spatial_resolution": 20,
          "unit": "cm",
          "scale": 0.001,
          "offset": 0
        }
      ],
      "roles": [
        "data"
      ]
    },
    "thumbnail": {
      "href": "https://sentinel-cogs.s3.us-west-2.amazonaws.com/sentinel-s2-l2a-cogs/45/R/UM/2026/10/S2A_45RUM_20261003_1_L2A/preview.jpg",
      "type": "image/jpeg",
      "title": "Thumbnail of preview image",
      "roles": [
        "thumbnail"
      ]
    },
    "aot-jp2": {
      "href": "s3://sentinel-s2-l2a/tiles/45/R/UM/2026/10/3/1/R20m/AOT.jp2",
      "type": "image/jp2",
      "title": "Aerosol optical thickness (AOT)",
      "gsd": 20,
      "proj:shape": [
        5490,
        5490
      ],
      "proj:transform": [
        20,
        0,
        300000,
        0,
        -20,
        3200040
      ],
      "raster:bands": [
        {
          "nodata": 0,
          "data_type": "uint16",
          "spatial_resolution": 20,
          "scale": 0.001,
          "offset": 0
        }
      ],
      "roles": [
        "data"
      ]
    },
    "blue-jp2": {
      "href": "s3://sentinel-s2-l2a/tiles/45/R/UM/2026/10/3/1/R10m/B02.jp2",
      "type": "image/jp2",
      "title": "Blue - 10m",
      "eo:bands": [
        {
          "name": "B02",
          "common_name": "blue",
          "center_wavelength": 0.49,
          "full_width_half_max": 0.098
        }
      ],
      "gsd": 10,
      "proj:shape": [
        10980,
        10980
      ],
      "proj:transform": [
        10,
        0,
        300000,
        0,
        -10,
        3200040
      ],
      "raster:bands": [
        {
          "nodata": 0,
          "data_type": "uint16",
          "spatial_resolution": 10,
          "scale": 0.0001,
          "offset": -0.1
        }
      ],
      "roles": [
        "data",
        "reflectance"
      ]
    },
    "coastal-jp2": {
      "href": "s3://sentinel-s2-l2a/tiles/45/R/UM/2026/10/3/1/R60m/B01.jp2",
      "type": "image/jp2",
      "title": "Coastal - 60m",
      "eo:bands": [
        {
          "name": "B01",
          "common_name": "coastal",
          "center_wavelength": 0.443,
          "full_width_half_max": 0.027
        }
      ],
      "gsd": 60,
      "proj:shape": [
        1830,
        1830
      ],
      "proj:transform": [
        60,
        0,
        300000,
        0,
        -60,
        3200040
      ],
      "raster:bands": [
        {
